BEGIN:VCALENDAR
VERSION:2.0
PRODID:icalendar-ruby
CALSCALE:GREGORIAN
METHOD:PUBLISH
BEGIN:VEVENT
DTSTAMP:20260422T133547Z
UID:168-337663@unityofappleton.org
DTSTART:20260510T150000Z
DTEND:20260510T173000Z
CLASS:PUBLIC
CREATED:20260420T094751
DESCRIPTION: EarthCare Plant Sale Fundraiser is Sunday\, May 10 from 10:00-
 12:30. Vegetables\, flowers and a variety of plants will be available!\nPl
 ease bring your donated plants to Unity of Appleton\, Sunday\, May 10 at 9
 :30.\nUnity of Appleton thanks you for your generosity toward this EarthCa
 re effort!
LAST-MODIFIED:20260420T094751
LOCATION:
SUMMARY:Plant Sale
URL;VALUE=URI:https://www.unityofappleton.org/events/plant-sale/2026-05-10
ATTACH;FILENAME=Annual-Plant-Sale-Fundraiser-12.png;FMTTYPE=image/png:https
 ://dq5pwpg1q8ru0.cloudfront.net/2026/04/20/14/47/51/abfc2360-37fc-4d4d-a99
 6-276521b4bda8/Annual-Plant-Sale-Fundraiser-12.png
END:VEVENT
END:VCALENDAR
